BEGIN:VCALENDAR
VERSION:2.0
PRODID:-//Austrian Technical Rescue Organisation - ECPv6.15.20//NONSGML v1.0//EN
CALSCALE:GREGORIAN
METHOD:PUBLISH
X-ORIGINAL-URL:https://www.atro.team
X-WR-CALDESC:Veranstaltungen für Austrian Technical Rescue Organisation
REFRESH-INTERVAL;VALUE=DURATION:PT1H
X-Robots-Tag:noindex
X-PUBLISHED-TTL:PT1H
BEGIN:VTIMEZONE
TZID:Europe/Vienna
BEGIN:DAYLIGHT
TZOFFSETFROM:+0100
TZOFFSETTO:+0200
TZNAME:CEST
DTSTART:20250330T010000
END:DAYLIGHT
BEGIN:STANDARD
TZOFFSETFROM:+0200
TZOFFSETTO:+0100
TZNAME:CET
DTSTART:20251026T010000
END:STANDARD
BEGIN:DAYLIGHT
TZOFFSETFROM:+0100
TZOFFSETTO:+0200
TZNAME:CEST
DTSTART:20260329T010000
END:DAYLIGHT
BEGIN:STANDARD
TZOFFSETFROM:+0200
TZOFFSETTO:+0100
TZNAME:CET
DTSTART:20261025T010000
END:STANDARD
BEGIN:DAYLIGHT
TZOFFSETFROM:+0100
TZOFFSETTO:+0200
TZNAME:CEST
DTSTART:20270328T010000
END:DAYLIGHT
BEGIN:STANDARD
TZOFFSETFROM:+0200
TZOFFSETTO:+0100
TZNAME:CET
DTSTART:20271031T010000
END:STANDARD
END:VTIMEZONE
BEGIN:VEVENT
DTSTART;VALUE=DATE:20260425
DTEND;VALUE=DATE:20260427
DTSTAMP:20260423T114813
CREATED:20260301T095114Z
LAST-MODIFIED:20260301T095610Z
UID:683-1777075200-1777247999@www.atro.team
SUMMARY:TR-Camp advanced edition 2026
DESCRIPTION:Technical Rescue Camp – Ausbildung in der technischen Unfallrettung \nPraxisstationen \n\nTiefbauunfälle\nSichern & Stabilisieren\nSeitenaufprall stark verformt\nAlternativen zur Hydraulik\nPatientenbetreuung\nHeben von schweren Lasten\nHebekissen\n\nBegrenzte Teilnehmerzahl – jede Organisation kann 2 Teilnehmer für für das TR-Camp anmelden. Jede weitere Anmeldung landet auf der Warteliste. Reihung erfolgt nach der Anmeldezeit.
URL:https://www.atro.team/veranstaltung/tr-camp-advanced-edition/
LOCATION:Feuerwehr Magdalenaberg\, Magdalenaberg 14\, Pettenbach\, 4643\, Austria
CATEGORIES:ATRO Veranstaltung
ATTACH;FMTTYPE=image/jpeg:https://www.atro.team/wp-content/uploads/2026/03/TR-Camp-Banner.jpg
END:VEVENT
BEGIN:VEVENT
DTSTART;VALUE=DATE:20260925
DTEND;VALUE=DATE:20260927
DTSTAMP:20260423T114813
CREATED:20251212T164101Z
LAST-MODIFIED:20260118T201925Z
UID:241-1790294400-1790467199@www.atro.team
SUMMARY:THL-Tage 2026
DESCRIPTION:Anmeldung ist ab 1. Februar 2026 auf der Homepage von ATRO möglich.\nDetails zu den THL-Tagen bitte der Homepage des Veranstalters entnehmen. \nTHL-Tage 2026 – FF Altenschlag
URL:https://www.atro.team/veranstaltung/thl-tage-2026-altenschlag/
LOCATION:Freibad- und Sportplatzareal Helfenberg\, Waldhäuser 67\, Helfenberg\, 4184\, Austria
CATEGORIES:ATRO Veranstaltung
ATTACH;FMTTYPE=image/webp:https://www.atro.team/wp-content/uploads/2025/12/csm_BANNER_Ergebnis_988f68e616.webp
ORGANIZER;CN="Freiwillige Feuerwehr Altenschlag":MAILTO:09403@ro.ooelfv.at
END:VEVENT
BEGIN:VEVENT
DTSTART;VALUE=DATE:20260926
DTEND;VALUE=DATE:20260927
DTSTAMP:20260423T114813
CREATED:20260118T201651Z
LAST-MODIFIED:20260307T105040Z
UID:536-1790380800-1790467199@www.atro.team
SUMMARY:Trauma-Tag 2026
DESCRIPTION:Am 26. September findet im Rahmen der Österreichischen THL Tage in Helfenberg (Oberösterreich) erstmals der Österreichische Traumatag statt – die erste österreichische Trauma Challenge. \nIm Mittelpunkt des Traumatages steht ein realitätsnaher Bewerb\, bei dem 20 nationale und internationale Teams ihr Können unter Beweis stellen.\nJedes Team besteht aus zwei Personen mit mindestens der Qualifikation Notfallsanitäter. Ziel ist es\, eine verletzte Person innerhalb von 15 Minuten optimal zu versorgen – davon 14 Minuten aktive Versorgung und eine Minute strukturierte Übergabe an die Bewerter. \nDie Teams ziehen jeweils eines von 20 unterschiedlichen Traumaszenarien und begeben sich vor Bewerbsbeginn in Isolation\, um keine Einblicke in das Szenario zu erhalten. Pro Team gibt es einen Patienten\, zusätzlich steht ein Ersthelfer zur Verfügung\, der in die Versorgung eingebunden werden kann. \nGearbeitet wird nach dem international etablierten X-ABCDE-Schema. \nDie Aufgabe besteht darin\, den Patienten strukturiert zu beurteilen\, lebensbedrohliche Verletzungen zu erkennen und zu behandeln.\nJe nach Situation kann auch eine Immobilisation erforderlich sein.\nInvasive Maßnahmen werden nicht durchgeführt\, Medikamente kommen – mit Ausnahme von medizinischem Sauerstoff – nicht zum Einsatz. \nBewertet wird nach den Vorgaben der World Rescue Organisation\, weshalb die Wertungsbögen in englischer Sprache gehalten sind. Diese werden den teilnehmenden Teams rechtzeitig vor dem Bewerb zur Verfügung gestellt\, um eine bestmögliche Vorbereitung zu ermöglichen. \nDie Sieger der österreichischen Trauma Challenge qualifizieren sich für die World Trauma Challenge 2027\, die von der Dubai Police in den Vereinigten Arabischen Emiraten ausgetragen wird – und dürfen dort Österreich auf internationaler Bühne vertreten.
URL:https://www.atro.team/veranstaltung/trauma-tag-2026-altenschlag/
LOCATION:Freibad- und Sportplatzareal Helfenberg\, Waldhäuser 67\, Helfenberg\, 4184\, Austria
CATEGORIES:ATRO Veranstaltung
ATTACH;FMTTYPE=image/webp:https://www.atro.team/wp-content/uploads/2026/02/Traumatag2026.webp
END:VEVENT
BEGIN:VEVENT
DTSTART;VALUE=DATE:20261118
DTEND;VALUE=DATE:20261124
DTSTAMP:20260423T114813
CREATED:20260117T225042Z
LAST-MODIFIED:20260118T201910Z
UID:391-1794960000-1795478399@www.atro.team
SUMMARY:World Rescue Challenge 2026
DESCRIPTION:Findet in Rio de Janeiro – Brasilien statt.\nAuch Österreich wird durch das Team aus Inzing in Tirol vertreten sein.\nMehr Informationen folgen zu gegebenen Anlass.
URL:https://www.atro.team/veranstaltung/world-rescue-challenge-rio-de-janeiro/
CATEGORIES:Fremdveranstaltung
ATTACH;FMTTYPE=image/jpeg:https://www.atro.team/wp-content/uploads/2026/01/WRC2026.jpg
END:VEVENT
END:VCALENDAR